Workbook
Name Inventory: Inventory!$A$3:$I$39
Name Survey: 'Satisfaction Survey'!$A$4:$H$40

Sheet Inventory
A1: Wear-Ever Inventory
A2: 42643
A3: Product ID | B3: Product | C3: Color | D3: Size | E3: Quantity | F3: Men's or Women's | G3: Cost | H3: Retail | I3: Reorder
A4: WE001 | B4: Rugged Hiking Boots | C4: Brown | D4: 8 | E4: 5 | F4: M | G4: 46.5 | H4: 90 | I4: N
A5: WE002 | B5: Rugged Hiking Boots | C5: Brown | D5: 10 | E5: 3 | F5: M | G5: 46.5 | H5: 90 | I5: Y | K5: Product ID | L5: WE010
A6: WE003 | B6: Rugged Hiking Boots | C6: Black | D6: 9.5 | E6: 6 | F6: M | G6: 46.5 | H6: 90 | I6: N | K6: Quantity | L6: =INDEX(Inventory,MATCH(L5,A3:A39,0),MATCH("quantity",A3:I3,0)) -> 1
A7: WE004 | B7: Rugged Hiking Boots | C7: Black | D7: 10.5 | E7: 4 | F7: M | G7: 46.5 | H7: 90 | I7: N
A8: WE005 | B8: Rugged Hiking Boots | C8: Black | D8: 7.5 | E8: 4 | F8: W | G8: 53.5 | H8: 98 | I8: N
A9: WE006 | B9: Rugged Hiking Boots | C9: Black | D9: 8 | E9: 2 | F9: W | G9: 53.5 | H9: 98 | I9: Y
A10: WE007 | B10: Rugged Hiking Boots | C10: Brown | D10: 9 | E10: 3 | F10: W | G10: 53.5 | H10: 98 | I10: N
A11: WE008 | B11: Rugged Hiking Boots | C11: Brown | D11: 8.5 | E11: 2 | F11: W | G11: 53.5 | H11: 98 | I11: Y
A12: WE009 | B12: Comfy Walking Shoes | C12: Brown | D12: 8.5 | E12: 4 | F12: M | G12: 47.5 | H12: 65 | I12: N | K12: Criteria | L12: In Stock
A13: WE010 | B13: Comfy Walking Shoes | C13: Black | D13: 9 | E13: 1 | F13: M | G13: 47.5 | H13: 65 | I13: Y | K13: Black, Size 8 | L13: =SUMIFS(E4:$E$39,C4:$C$39,"bla*",D4:$D$39,8) -> 7
A14: WE011 | B14: Comfy Walking Shoes | C14: Navy | D14: 7.5 | E14: 4 | F14: W | G14: 47.5 | H14: 65 | I14: N | K14: Black, Size 9 | L14: =SUMIFS(E5:$E$39,C5:$C$39,"bla*",D5:$D$39,9) -> 4
A15: WE012 | B15: Comfy Walking Shoes | C15: Black | D15: 8 | E15: 1 | F15: W | G15: 47.5 | H15: 65 | I15: Y | K15: Men's, Brown | L15: =SUMIFS(E6:$E$39,C6:$C$39,"bro*") -> 22
A16: WE013 | B16: Comfy Walking Shoes | C16: Taupe | D16: 7.5 | E16: 2 | F16: W | G16: 47.5 | H16: 65 | I16: N
A17: WE014 | B17: Comfy Walking Shoes | C17: Brown | D17: 8 | E17: 3 | F17: W | G17: 47.5 | H17: 65 | I17: Y
A18: WE015 | B18: Lazy Flip-Flops | C18: Pink | D18: 6 | E18: 4 | F18: W | G18: 7.5 | H18: 14 | I18: N
A19: WE016 | B19: Lazy Flip-Flops | C19: Pink | D19: 7 | E19: 0 | F19: W | G19: 7.5 | H19: 14 | I19: N
A20: WE017 | B20: Lazy Flip-Flops | C20: Pink | D20: 8 | E20: 2 | F20: W | G20: 7.5 | H20: 14 | I20: Y
A21: WE018 | B21: Lazy Flip-Flops | C21: White | D21: 6 | E21: 3 | F21: W | G21: 7.5 | H21: 14 | I21: N
A22: WE019 | B22: Lazy Flip-Flops | C22: White | D22: 7 | E22: 1 | F22: W | G22: 7.5 | H22: 14 | I22: N
A23: WE020 | B23: Lazy Flip-Flops | C23: White | D23: 8 | E23: 2 | F23: W | G23: 7.5 | H23: 14 | I23: Y
A24: WE021 | B24: Lazy Flip-Flops | C24: Brown | D24: 8 | E24: 2 | F24: M | G24: 7.5 | H24: 14 | I24: Y
A25: WE022 | B25: Lazy Flip-Flops | C25: Brown | D25: 9 | E25: 4 | F25: M | G25: 7.5 | H25: 14 | I25: N
A26: WE023 | B26: Lazy Flip-Flops | C26: Brown | D26: 10 | E26: 2 | F26: M | G26: 7.5 | H26: 14 | I26: Y
A27: WE024 | B27: Lazy Flip-Flops | C27: Brown | D27: 11 | E27: 2 | F27: M | G27: 7.5 | H27: 14 | I27: Y
... A39: WE036 | B39: Glide Running Shoes | C39: Black | D39: 10 | E39: 1 | F39: M | G39: 48 | H39: 75 | I39: Y

Sheet Satisfaction Survey
A1: Wear-Ever Shoes
A2: Customer Satisfaction Survey
A4: Product ID | B4: Product | C4: Color | D4: Size | E4: Comfort | F4: Fit | G4: Style | H4: Value
A5: WE001 | B5: Rugged Hiking Boots | C5: Brown | D5: 8 | E5: 7 | F5: 9 | G5: 7 | H5: 7
A6: WE002 | B6: Rugged Hiking Boots | C6: Brown | D6: 10 | E6: 8 | F6: 8 | G6: 10 | H6: 8
A7: WE003 | B7: Rugged Hiking Boots | C7: Black | D7: 9.5 | E7: 8 | F7: 9 | G7: 8 | H7: 9
A8: WE004 | B8: Rugged Hiking Boots | C8: Black | D8: 10.5 | E8: 6 | F8: 9 | G8: 9 | H8: 10
A9: WE005 | B9: Rugged Hiking Boots | C9: Black | D9: 7.5 | E9: 8 | F9: 8 | G9: 10 | H9: 9
A10: WE006 | B10: Rugged Hiking Boots | C10: Black | D10: 8 | E10: 7 | F10: 9 | G10: 9 | H10: 10
A11: WE007 | B11: Rugged Hiking Boots | C11: Brown | D11: 9 | E11: 9 | F11: 9 | G11: 8 | H11: 8
A12: WE008 | B12: Rugged Hiking Boots | C12: Brown | D12: 8.5 | E12: 9 | F12: 8 | G12: 9 | H12: 7
A13: WE009 | B13: Comfy Walking Shoes | C13: Brown | D13: 8.5 | E13: 8 | F13: 3 | G13: 8 | H13: 6
A14: WE010 | B14: Comfy Walking Shoes | C14: Black | D14: 9 | E14: 10 | F14: 10 | G14: 8 | H14: 9
A15: WE011 | B15: Comfy Walking Shoes | C15: Navy | D15: 7.5 | E15: 9 | F15: 3 | G15: 8 | H15: 4
A16: WE012 | B16: Comfy Walking Shoes | C16: Black | D16: 8 | E16: 7 | F16: 5 | G16: 10 | H16: 6
... A40: WE036 | B40: Glide Running Shoes | C40: Black | D40: 10 | E40: 10 | F40: 10 | G40: 9 | H40: 9

Sheet Average Ratings
A1: Wear-Ever Shoes
A2: Average Ratings by Shoe Style
A4: Product ID | B4: Product | C4: Comfort | D4: Fit | E4: Style | F4: Value | G4: Overall | H4: Rating | J4: Ratings
A5: WE001 | B5: Rugged Hiking Boots | C5: =DAVERAGE(Survey,"comfort",Criteria!$B$1:$B$2) -> 7.75 | D5: =DAVERAGE(Survey,"fit",Criteria!$B$1:$B$2) -> 8.625 | E5: =DAVERAGE(Survey,"style",Criteria!$B$1:$B$2) -> 8.75 | F5: =DAVERAGE(Survey,"value",Criteria!$B$1:$B$2) -> 8.5 | G5: =AVERAGE(C5:F5) -> 8.40625 | H5: =IF(G5>=9,$J$5,IF(G5>=7,$J$6,IF(G5>=5,$J$7,$J$8))) -> Above Average | J5: Excellent | K5: 9 and above
A6: WE009 | B6: Comfy Walking Shoes | C6: =DAVERAGE(Survey,"comfort",Criteria!$B$4:$B$5) -> 7.5 | D6: =DAVERAGE(Survey,"fit",Criteria!$B$4:$B$5) -> 5.3333333 | E6: =DAVERAGE(Survey,"style",Criteria!$B$4:$B$5) -> 7.5 | F6: =DAVERAGE(Survey,"value",Criteria!$B$4:$B$5) -> 6.3333333 | G6: =AVERAGE(C6:F6) -> 6.6666667 | H6: =IF(G6>=9,$J$5,IF(G6>=7,$J$6,IF(G6>=5,$J$7,$J$8))) -> Average | J6: Above Average | K6: 7 and above
A7: WE015 | B7: Lazy Flip-Flops | C7: =DAVERAGE(Survey,"comfort",Criteria!$B$7:$B$8) -> 4.9 | D7: =DAVERAGE(Survey,"fit",Criteria!$B$7:$B$8) -> 3.3 | E7: =DAVERAGE(Survey,"style",Criteria!$B$7:$B$8) -> 5.5 | F7: =DAVERAGE(Survey,"value",Criteria!$B$7:$B$8) -> 5.6 | G7: =AVERAGE(C7:F7) -> 4.825 | H7: =IF(G7>=9,$J$5,IF(G7>=7,$J$6,IF(G7>=5,$J$7,$J$8))) -> Poor | J7: Average | K7: 5 and above
A8: WE025 | B8: Seriously Tall Boots | C8: =DAVERAGE(Survey,"comfort",Criteria!$B$10:$B$11) -> 6.6666667 | D8: =DAVERAGE(Survey,"fit",Criteria!$B$10:$B$11) -> 5 | E8: =DAVERAGE(Survey,"style",Criteria!$B$10:$B$11) -> 6.5 | F8: =DAVERAGE(Survey,"value",Criteria!$B$10:$B$11) -> 8.5 | G8: =AVERAGE(C8:F8) -> 6.6666667 | H8: =IF(G8>=9,$J$5,IF(G8>=7,$J$6,IF(G8>=5,$J$7,$J$8))) -> Average | J8: Poor | K8: Below 5
A9: WE031 | B9: Glide Running Shoes | C9: =DAVERAGE(Survey,"comfort",Criteria!$B$13:$B$14) -> 9.1666667 | D9: =DAVERAGE(Survey,"fit",Criteria!$B$13:$B$14) -> 9.5 | E9: =DAVERAGE(Survey,"style",Criteria!$B$13:$B$14) -> 8.8333333 | F9: =DAVERAGE(Survey,"value",Criteria!$B$13:$B$14) -> 9 | G9: =AVERAGE(C9:F9) -> 9.125 | H9: =IF(G9>=9,$J$5,IF(G9>=7,$J$6,IF(G9>=5,$J$7,$J$8))) -> Excellent

Sheet Criteria
A1: Product ID | B1: Product | C1: Color | D1: Size | E1: Quantity | F1: Men's or Women's | G1: Cost | H1: Retail | I1: Reorder
B2: rug*
A4: Product ID | B4: Product | C4: Color | D4: Size | E4: Quantity | F4: Men's or Women's | G4: Cost | H4: Retail | I4: Reorder
B5: com*
A7: Product ID | B7: Product | C7: Color | D7: Size | E7: Quantity | F7: Men's or Women's | G7: Cost | H7: Retail | I7: Reorder
B8: laz*
A10: Product ID | B10: Product | C10: Color | D10: Size | E10: Quantity | F10: Men's or Women's | G10: Cost | H10: Retail | I10: Reorder
B11: ser*
A13: Product ID | B13: Product | C13: Color | D13: Size | E13: Quantity | F13: Men's or Women's | G13: Cost | H13: Retail | I13: Reorder
B14: gli*

Sheet Depreciation
B2: Wear-Ever Shoes
B3: Asset Depreciation for Packaging Equipment
B6: Cost of Equipment | C6: 175000
B7: Salvage Value | C7: 22000
B8: Life in Years | C8: 8
B10: Year | C10: Amount
B11: 1 | C11: =DB($C$6,$C$7,$C$8,B11) -> 39900
B12: 2 | C12: =DB($C$6,$C$7,$C$8,B12) -> 30802.8
B13: 3 | C13: =DB($C$6,$C$7,$C$8,B13) -> 23779.762
B14: 4 | C14: =DB($C$6,$C$7,$C$8,B14) -> 18357.976
B15: 5 | C15: =DB($C$6,$C$7,$C$8,B15) -> 14172.357
B16: 6 | C16: =DB($C$6,$C$7,$C$8,B16) -> 10941.06
B17: 7 | C17: =DB($C$6,$C$7,$C$8,B17) -> 8446.4983
B18: 8 | C18: =DB($C$6,$C$7,$C$8,B18) -> 6520.6967
B19: Total | C19: =SUM(C11:C18) -> 152921.15

Sheet E-Mail
A1: Wear-Ever Shoes
A2: Employee E-Mail List
A4: First Name | B4: Last Name | C4: Email Addresses
A5: Vincent | B5: Bowman | C5: =CONCATENATE(A5,B5,"@weshoes.org") -> VincentBowman@weshoes.org
A6: Louis | B6: White | C6: =CONCATENATE(A6,B6,"@weshoes.org") -> LouisWhite@weshoes.org
A7: Patricia | B7: Lynwood | C7: =CONCATENATE(A7,B7,"@weshoes.org") -> PatriciaLynwood@weshoes.org
A8: Drew | B8: Cronin | C8: =CONCATENATE(A8,B8,"@weshoes.org") -> DrewCronin@weshoes.org
